BEGIN:VCALENDAR
VERSION:2.0
PRODID:-//yaml2ical agendas//EN
BEGIN:VEVENT
SUMMARY:OpenStack-Helm Team Meeting
DTSTART:20160607T150000Z
DURATION:PT1H
DTSTAMP:20221103T152409Z
UID:openstack-helmteammeeting-20160607
RRULE:FREQ=MONTHLY;BYDAY=1TU
DESCRIPTION:Project:  OpenStack-Helm Team Meeting\nChair:  Gage Hugo (gage
 hugo)\nDescription:  This is the meeting for the OpenStack-Helm team. Goal
  of the project is to provide Helm charts for OpenStack services that allo
 w to deploy OpenStack on top of Kubernetes using Helm.\n\nAgenda URL:  htt
 ps://etherpad.openstack.org/p/openstack-helm-meeting
LOCATION:#openstack-helm
END:VEVENT
END:VCALENDAR
