BEGIN:VCALENDAR
VERSION:2.0
PRODID:-//yaml2ical agendas//EN
BEGIN:VEVENT
SUMMARY:OpenStack Security SIG meeting
DTSTART:20180405T150000Z
DURATION:PT1H
DTSTAMP:20220602T130947Z
UID:openstacksecuritysigmeeting-20180405
RRULE:FREQ=MONTHLY;BYDAY=1TH
DESCRIPTION:Project:  OpenStack Security SIG meeting\nChair:  Jeremy Stanl
 ey (fungi)\nDescription:  The OpenStack Security SIG holds public meetings
  on IRC monthly. Everyone is encouraged to attend.\n
LOCATION:#openstack-security
END:VEVENT
END:VCALENDAR
